BEGIN:VCALENDAR
VERSION:2.0
PRODID:-//National Association of Royalty Owners Ohio Chapter - ECPv6.15.20//NONSGML v1.0//EN
CALSCALE:GREGORIAN
METHOD:PUBLISH
X-WR-CALNAME:National Association of Royalty Owners Ohio Chapter
X-ORIGINAL-URL:https://naroohio.org
X-WR-CALDESC:Events for National Association of Royalty Owners Ohio Chapter
REFRESH-INTERVAL;VALUE=DURATION:PT1H
X-Robots-Tag:noindex
X-PUBLISHED-TTL:PT1H
BEGIN:VTIMEZONE
TZID:UTC
BEGIN:STANDARD
TZOFFSETFROM:+0000
TZOFFSETTO:+0000
TZNAME:UTC
DTSTART:20190101T000000
END:STANDARD
END:VTIMEZONE
BEGIN:VEVENT
DTSTART;TZID=UTC:20210714T100000
DTEND;TZID=UTC:20210717T120000
DTSTAMP:20260425T122346
CREATED:20210714T184934Z
LAST-MODIFIED:20210719T141905Z
UID:88146-1626256800-1626523200@naroohio.org
SUMMARY:2021 NARO Texas and New Mexico Convention
DESCRIPTION:Note times are CST.
URL:https://naroohio.org/event/2021-naro-texas-and-new-mexico-convention/
LOCATION:Omni Hotel\, 4 Riverway\, Houston\, TX\, 77056\, United States
CATEGORIES:Naro-Ohio
END:VEVENT
BEGIN:VEVENT
DTSTART;TZID=UTC:20210416T080000
DTEND;TZID=UTC:20210416T170000
DTSTAMP:20260425T122346
CREATED:20210416T125449Z
LAST-MODIFIED:20210416T125449Z
UID:87678-1618560000-1618592400@naroohio.org
SUMMARY:Test event
DESCRIPTION:
URL:https://naroohio.org/event/test-event/
LOCATION:WV
CATEGORIES:Naro-Ohio
END:VEVENT
BEGIN:VEVENT
DTSTART;TZID=UTC:20210406T120000
DTEND;TZID=UTC:20210718T192000
DTSTAMP:20260425T122346
CREATED:20210718T192057Z
LAST-MODIFIED:20210901T131953Z
UID:88360-1617710400-1626636000@naroohio.org
SUMMARY:Termination and Expiration of Oil and Gas Leases on Ohio
DESCRIPTION:This is something that you don’t want to miss! Register today at www.naro-us.org – free to members\, so why not join? The NARO Ohio Chapter is gaining members and working hard for oil and gas royalty owners in Ohio – if not already a member\, consider joining!
URL:https://naroohio.org/event/termination-and-expiration-of-oil-and-gas-leases-on-ohio/
LOCATION:Webinar
CATEGORIES:Naro-Ohio
END:VEVENT
BEGIN:VEVENT
DTSTART;TZID=UTC:20200730T080000
DTEND;TZID=UTC:20210718T170000
DTSTAMP:20260425T122346
CREATED:20210718T185102Z
LAST-MODIFIED:20210719T141919Z
UID:88350-1596096000-1626627600@naroohio.org
SUMMARY:Post-Production Costs Podcast
DESCRIPTION:I was interviewed this week by Tiffany Dowell Lashmet\, J.D.\, Agricultural Law Specialist with the Department of Agricultural Economics at Texas A&M University. Tiffany does lots of education programs for landowners at the Texas A&M AgriLife Research and Extension Center. She has a great blog for anyone involved in agriculture. Tiffany interviewed me about the law relating to deduction of post-production costs from oil and gas royalties. You can listen to Tiffany’s podcast of our interview here. \nBelow is the link to the podcast episode mentioned above: \nhttps://aglaw.libsyn.com/episode-86-john-mcfarland-oil-gas-royalties \nThis is a podcast that I came across on Oil and Gas Lawyer Blog – Mr. McFarland is a very well thought of attorney – from TX\, PPC issues are the same.\nThe first 18 minutes are mostly introductions and setting up the topic for discussion.\nSkip forward and start at the 18:00 minute mark and listen thru to the 41:30 minute mark
URL:https://naroohio.org/event/post-production-costs-podcast/
LOCATION:PodCast
CATEGORIES:Naro-Ohio
END:VEVENT
END:VCALENDAR